{
 "documentInfo": {
  "Category": "",
  "Keywords": "Aerials,Aerial Photographs,Orthophotographs,Basemap",
  "Version": "2.7.0",
  "Comments": "",
  "AntialiasingMode": "Normal",
  "Title": "Map",
  "Author": "",
  "TextAntialiasingMode": "Force",
  "Subject": ""
 },
 "maxImageWidth": 4096,
 "wmtsScaleFactor": 0.00028000000000003521,
 "maxRecordCount": 2000,
 "tileInfo": {
  "lods": [
   {
    "level": 0,
    "scale": 1000000,
    "resolution": 264.58386250105838
   },
   {
    "level": 1,
    "scale": 500000,
    "resolution": 132.29193125052919
   },
   {
    "level": 2,
    "scale": 250000,
    "resolution": 66.145965625264594
   },
   {
    "level": 3,
    "scale": 125000,
    "resolution": 33.072982812632297
   },
   {
    "level": 4,
    "scale": 64000,
    "resolution": 16.933367200067735
   },
   {
    "level": 5,
    "scale": 32000,
    "resolution": 8.4666836000338677
   },
   {
    "level": 6,
    "scale": 16000,
    "resolution": 4.2333418000169338
   },
   {
    "level": 7,
    "scale": 8000,
    "resolution": 2.1166709000084669
   },
   {
    "level": 8,
    "scale": 4000,
    "resolution": 1.0583354500042335
   },
   {
    "level": 9,
    "scale": 2000,
    "resolution": 0.52916772500211673
   },
   {
    "level": 10,
    "scale": 1000,
    "resolution": 0.26458386250105836
   }
  ],
  "origin": {
   "x": -5120900,
   "y": 9998100
  },
  "format": "JPEG",
  "compressionQuality": 75,
  "rows": 256,
  "dpi": 96,
  "spatialReference": {
   "falseM": -100000,
   "xyTolerance": 0.001,
   "mUnits": 10000,
   "zUnits": 10000,
   "latestWkid": 26912,
   "zTolerance": 0.001,
   "wkid": 26912,
   "xyUnits": 450445547.3910538,
   "mTolerance": 0.001,
   "falseX": -5120900,
   "falseY": -9998100,
   "falseZ": -100000
  },
  "cols": 256
 },
 "description": "",
 "datesInUnknownTimezone": false,
 "supportsQueryDomains": true,
 "units": "esriMeters",
 "maxSelectionCount": 2000,
 "supportedImageFormatTypes": "PNG32,PNG24,PNG,JPG,DIB,TIFF,EMF,PS,PDF,GIF,SVG,SVGZ,BMP",
 "supportsClipping": true,
 "exportTilesAllowed": false,
 "maxImageHeight": 4096,
 "tables": [],
 "hasVersionedData": false,
 "supportsDatumTransformation": true,
 "cimVersion": "3.7.0",
 "supportsQueryDataElements": true,
 "layers": [
  {
   "subLayerIds": [
    1,
    2,
    3,
    4,
    5,
    6,
    7
   ],
   "maxScale": 0,
   "name": "Hamlets",
   "defaultVisibility": true,
   "id": 0,
   "minScale": 10000,
   "supportsDynamicLegends": false,
   "type": "Group Layer",
   "parentLayerId": -1
  },
  {
   "subLayerIds": null,
   "maxScale": 0,
   "name": "2011_TullibyLake_10cm.tif",
   "defaultVisibility": true,
   "id": 1,
   "minScale": 0,
   "supportsDynamicLegends": true,
   "type": "Raster Layer",
   "parentLayerId": 0
  },
  {
   "subLayerIds": null,
   "maxScale": 0,
   "name": "2011_Streamstown_10cm.tif",
   "defaultVisibility": true,
   "id": 2,
   "minScale": 0,
   "supportsDynamicLegends": true,
   "type": "Raster Layer",
   "parentLayerId": 0
  },
  {
   "subLayerIds": null,
   "maxScale": 0,
   "name": "2011_Rivercourse_10cm.tif",
   "defaultVisibility": true,
   "id": 3,
   "minScale": 0,
   "supportsDynamicLegends": true,
   "type": "Raster Layer",
   "parentLayerId": 0
  },
  {
   "subLayerIds": null,
   "maxScale": 0,
   "name": "2011_McLaughlin_10cm.tif",
   "defaultVisibility": true,
   "id": 4,
   "minScale": 0,
   "supportsDynamicLegends": true,
   "type": "Raster Layer",
   "parentLayerId": 0
  },
  {
   "subLayerIds": null,
   "maxScale": 0,
   "name": "2011_Islay_10cm.tif",
   "defaultVisibility": true,
   "id": 5,
   "minScale": 0,
   "supportsDynamicLegends": true,
   "type": "Raster Layer",
   "parentLayerId": 0
  },
  {
   "subLayerIds": null,
   "maxScale": 0,
   "name": "2011_Clandonald_10cm.tif",
   "defaultVisibility": true,
   "id": 6,
   "minScale": 0,
   "supportsDynamicLegends": true,
   "type": "Raster Layer",
   "parentLayerId": 0
  },
  {
   "subLayerIds": null,
   "maxScale": 0,
   "name": "2011_Blackfoot_10cm.tif",
   "defaultVisibility": true,
   "id": 7,
   "minScale": 0,
   "supportsDynamicLegends": true,
   "type": "Raster Layer",
   "parentLayerId": 0
  },
  {
   "subLayerIds": null,
   "maxScale": 0,
   "name": "2011_County_50cm.tif",
   "defaultVisibility": true,
   "id": 8,
   "minScale": 0,
   "supportsDynamicLegends": true,
   "type": "Raster Layer",
   "parentLayerId": -1
  }
 ],
 "mapName": "2011 Aerial",
 "minScale": 1000000,
 "archivingInfo": {
  "supportsHistoricMoment": false
 },
 "spatialReference": {
  "falseM": -100000,
  "xyTolerance": 0.001,
  "mUnits": 10000,
  "zUnits": 10000,
  "latestWkid": 26912,
  "zTolerance": 0.001,
  "wkid": 26912,
  "xyUnits": 10000,
  "mTolerance": 0.001,
  "falseX": -5120900,
  "falseY": -9998100,
  "falseZ": -100000
 },
 "tileImageInfo": {
  "bandCount": 1,
  "lercError": 0,
  "format": "JPEG",
  "compressionQuality": 75
 },
 "fullExtent": {
  "ymin": 5854994,
  "xmin": 497059,
  "ymax": 5971695.5,
  "xmax": 566986,
  "spatialReference": {
   "falseM": -100000,
   "xyTolerance": 0.001,
   "mUnits": 10000,
   "zUnits": 10000,
   "latestWkid": 26912,
   "zTolerance": 0.001,
   "wkid": 26912,
   "xyUnits": 10000,
   "mTolerance": 0.001,
   "falseX": -5120900,
   "falseY": -9998100,
   "falseZ": -100000
  }
 },
 "supportedExtensions": "",
 "serviceItemId": "79e5804883e741b3b656c55680045a9c",
 "capabilities": "Map",
 "supportsDynamicLayers": false,
 "maxScale": 500,
 "singleFusedMapCache": true,
 "currentVersion": 12.1,
 "storageInfo": {
  "storageFormat": "esriMapCacheStorageModeCompactV2",
  "packetSize": 128
 },
 "resampling": false,
 "hasBranchVersionedData": false,
 "mapUnits": {
  "uwkid": 9001
 },
 "referenceScale": 0,
 "supportsSpatialFilter": true,
 "supportedQueryFormats": "JSON, geoJSON, PBF",
 "initialExtent": {
  "ymin": 5905412.5245265262,
  "xmin": 526559.7123155538,
  "ymax": 5912277.6719911927,
  "xmax": 536810.17655253387,
  "spatialReference": {
   "falseM": -100000,
   "xyTolerance": 0.001,
   "mUnits": 10000,
   "zUnits": 10000,
   "latestWkid": 26912,
   "zTolerance": 0.001,
   "wkid": 26912,
   "xyUnits": 10000,
   "mTolerance": 0.001,
   "falseX": -5120900,
   "falseY": -9998100,
   "falseZ": -100000
  }
 },
 "serviceDescription": "",
 "copyrightText": "",
 "supportsTimeRelation": true
}
