{
 "documentInfo": {
  "Category": "",
  "Keywords": "Aerial",
  "Version": "3.1.0",
  "Comments": "2024 Aerial",
  "AntialiasingMode": "Fast",
  "Title": "Map",
  "Author": "",
  "TextAntialiasingMode": "Force",
  "Subject": "2024 Aerial"
 },
 "maxImageWidth": 4096,
 "wmtsScaleFactor": 0.00028000000000003521,
 "maxRecordCount": 2000,
 "tileInfo": {
  "lods": [
   {
    "level": 0,
    "scale": 1000000,
    "resolution": 264.58386250105838
   },
   {
    "level": 1,
    "scale": 500000,
    "resolution": 132.29193125052919
   },
   {
    "level": 2,
    "scale": 250000,
    "resolution": 66.145965625264594
   },
   {
    "level": 3,
    "scale": 125000,
    "resolution": 33.072982812632297
   },
   {
    "level": 4,
    "scale": 64000,
    "resolution": 16.933367200067735
   },
   {
    "level": 5,
    "scale": 32000,
    "resolution": 8.4666836000338677
   },
   {
    "level": 6,
    "scale": 16000,
    "resolution": 4.2333418000169338
   },
   {
    "level": 7,
    "scale": 8000,
    "resolution": 2.1166709000084669
   },
   {
    "level": 8,
    "scale": 4000,
    "resolution": 1.0583354500042335
   },
   {
    "level": 9,
    "scale": 2000,
    "resolution": 0.52916772500211673
   },
   {
    "level": 10,
    "scale": 1000,
    "resolution": 0.26458386250105836
   },
   {
    "level": 11,
    "scale": 500,
    "resolution": 0.13229193125052918
   }
  ],
  "origin": {
   "x": -5120900,
   "y": 9998100
  },
  "format": "JPEG",
  "compressionQuality": 75,
  "rows": 256,
  "dpi": 96,
  "spatialReference": {
   "falseM": -100000,
   "xyTolerance": 0.001,
   "mUnits": 10000,
   "zUnits": 10000,
   "latestWkid": 26912,
   "zTolerance": 0.001,
   "wkid": 26912,
   "xyUnits": 10000,
   "mTolerance": 0.001,
   "falseX": -5120900,
   "falseY": -9998100,
   "falseZ": -100000
  },
  "cols": 256
 },
 "description": "2024 Aerial",
 "datesInUnknownTimezone": false,
 "supportsQueryDomains": true,
 "units": "esriMeters",
 "maxSelectionCount": 2000,
 "supportedImageFormatTypes": "PNG32,PNG24,PNG,JPG,DIB,TIFF,EMF,PS,PDF,GIF,SVG,SVGZ,BMP",
 "supportsClipping": true,
 "exportTilesAllowed": false,
 "maxImageHeight": 4096,
 "tables": [],
 "hasVersionedData": false,
 "supportsDatumTransformation": true,
 "cimVersion": "3.7.0",
 "supportsQueryDataElements": true,
 "layers": [
  {
   "subLayerIds": [
    85,
    84,
    83,
    82,
    81,
    80,
    79,
    78
   ],
   "maxScale": 0,
   "name": "Urban 10cm",
   "defaultVisibility": true,
   "id": 86,
   "minScale": 1000,
   "supportsDynamicLegends": false,
   "type": "Group Layer",
   "parentLayerId": -1
  },
  {
   "subLayerIds": null,
   "maxScale": 0,
   "name": "10cm_RGB_Tulliby_Lake.tif",
   "defaultVisibility": true,
   "id": 85,
   "minScale": 0,
   "supportsDynamicLegends": true,
   "type": "Raster Layer",
   "parentLayerId": 86
  },
  {
   "subLayerIds": null,
   "maxScale": 0,
   "name": "10cm_RGB_Streamstown.tif",
   "defaultVisibility": true,
   "id": 84,
   "minScale": 0,
   "supportsDynamicLegends": true,
   "type": "Raster Layer",
   "parentLayerId": 86
  },
  {
   "subLayerIds": null,
   "maxScale": 0,
   "name": "10cm_RGB_Rivercourse.tif",
   "defaultVisibility": true,
   "id": 83,
   "minScale": 0,
   "supportsDynamicLegends": true,
   "type": "Raster Layer",
   "parentLayerId": 86
  },
  {
   "subLayerIds": null,
   "maxScale": 0,
   "name": "10cm_RGB_McLaughlin.tif",
   "defaultVisibility": true,
   "id": 82,
   "minScale": 0,
   "supportsDynamicLegends": true,
   "type": "Raster Layer",
   "parentLayerId": 86
  },
  {
   "subLayerIds": null,
   "maxScale": 0,
   "name": "10cm_RGB_Islay.tif",
   "defaultVisibility": true,
   "id": 81,
   "minScale": 0,
   "supportsDynamicLegends": true,
   "type": "Raster Layer",
   "parentLayerId": 86
  },
  {
   "subLayerIds": null,
   "maxScale": 0,
   "name": "10cm_RGB_Dewberry.tif",
   "defaultVisibility": true,
   "id": 80,
   "minScale": 0,
   "supportsDynamicLegends": true,
   "type": "Raster Layer",
   "parentLayerId": 86
  },
  {
   "subLayerIds": null,
   "maxScale": 0,
   "name": "10cm_RGB_Clandonald.tif",
   "defaultVisibility": true,
   "id": 79,
   "minScale": 0,
   "supportsDynamicLegends": true,
   "type": "Raster Layer",
   "parentLayerId": 86
  },
  {
   "subLayerIds": null,
   "maxScale": 0,
   "name": "10cm_RGB_Blackfoot.tif",
   "defaultVisibility": true,
   "id": 78,
   "minScale": 0,
   "supportsDynamicLegends": true,
   "type": "Raster Layer",
   "parentLayerId": 86
  },
  {
   "subLayerIds": [
    76,
    75,
    74,
    73,
    72,
    71,
    70,
    69,
    68,
    67,
    66,
    65,
    64,
    63,
    62,
    61,
    60,
    59,
    58,
    57,
    56,
    55,
    54,
    53,
    52,
    51,
    50,
    49,
    48,
    47,
    46,
    45,
    44,
    43,
    42,
    41,
    40,
    39,
    38,
    37,
    36,
    35,
    34,
    33,
    32,
    31,
    30,
    29,
    28,
    27,
    26,
    25,
    24,
    23,
    22,
    21,
    20,
    19,
    18,
    17,
    16,
    15,
    14,
    13,
    12,
    11,
    10,
    9,
    8,
    7,
    6,
    5,
    4,
    3,
    2,
    1,
    0
   ],
   "maxScale": 0,
   "name": "Rural 40cm",
   "defaultVisibility": true,
   "id": 77,
   "minScale": 0,
   "supportsDynamicLegends": false,
   "type": "Group Layer",
   "parentLayerId": -1
  },
  {
   "subLayerIds": null,
   "maxScale": 0,
   "name": "TRM_056074.tif",
   "defaultVisibility": true,
   "id": 76,
   "minScale": 0,
   "supportsDynamicLegends": true,
   "type": "Raster Layer",
   "parentLayerId": 77
  },
  {
   "subLayerIds": null,
   "maxScale": 0,
   "name": "TRM_056064.tif",
   "defaultVisibility": true,
   "id": 75,
   "minScale": 0,
   "supportsDynamicLegends": true,
   "type": "Raster Layer",
   "parentLayerId": 77
  },
  {
   "subLayerIds": null,
   "maxScale": 0,
   "name": "TRM_056054.tif",
   "defaultVisibility": true,
   "id": 74,
   "minScale": 0,
   "supportsDynamicLegends": true,
   "type": "Raster Layer",
   "parentLayerId": 77
  },
  {
   "subLayerIds": null,
   "maxScale": 0,
   "name": "TRM_056044.tif",
   "defaultVisibility": true,
   "id": 73,
   "minScale": 0,
   "supportsDynamicLegends": true,
   "type": "Raster Layer",
   "parentLayerId": 77
  },
  {
   "subLayerIds": null,
   "maxScale": 0,
   "name": "TRM_056034.tif",
   "defaultVisibility": true,
   "id": 72,
   "minScale": 0,
   "supportsDynamicLegends": true,
   "type": "Raster Layer",
   "parentLayerId": 77
  },
  {
   "subLayerIds": null,
   "maxScale": 0,
   "name": "TRM_056024.tif",
   "defaultVisibility": true,
   "id": 71,
   "minScale": 0,
   "supportsDynamicLegends": true,
   "type": "Raster Layer",
   "parentLayerId": 77
  },
  {
   "subLayerIds": null,
   "maxScale": 0,
   "name": "TRM_056014.tif",
   "defaultVisibility": true,
   "id": 70,
   "minScale": 0,
   "supportsDynamicLegends": true,
   "type": "Raster Layer",
   "parentLayerId": 77
  },
  {
   "subLayerIds": null,
   "maxScale": 0,
   "name": "TRM_055064.tif",
   "defaultVisibility": true,
   "id": 69,
   "minScale": 0,
   "supportsDynamicLegends": true,
   "type": "Raster Layer",
   "parentLayerId": 77
  },
  {
   "subLayerIds": null,
   "maxScale": 0,
   "name": "TRM_055054.tif",
   "defaultVisibility": true,
   "id": 68,
   "minScale": 0,
   "supportsDynamicLegends": true,
   "type": "Raster Layer",
   "parentLayerId": 77
  },
  {
   "subLayerIds": null,
   "maxScale": 0,
   "name": "TRM_055044.tif",
   "defaultVisibility": true,
   "id": 67,
   "minScale": 0,
   "supportsDynamicLegends": true,
   "type": "Raster Layer",
   "parentLayerId": 77
  },
  {
   "subLayerIds": null,
   "maxScale": 0,
   "name": "TRM_055034.tif",
   "defaultVisibility": true,
   "id": 66,
   "minScale": 0,
   "supportsDynamicLegends": true,
   "type": "Raster Layer",
   "parentLayerId": 77
  },
  {
   "subLayerIds": null,
   "maxScale": 0,
   "name": "TRM_055024.tif",
   "defaultVisibility": true,
   "id": 65,
   "minScale": 0,
   "supportsDynamicLegends": true,
   "type": "Raster Layer",
   "parentLayerId": 77
  },
  {
   "subLayerIds": null,
   "maxScale": 0,
   "name": "TRM_055014.tif",
   "defaultVisibility": true,
   "id": 64,
   "minScale": 0,
   "supportsDynamicLegends": true,
   "type": "Raster Layer",
   "parentLayerId": 77
  },
  {
   "subLayerIds": null,
   "maxScale": 0,
   "name": "TRM_054064.tif",
   "defaultVisibility": true,
   "id": 63,
   "minScale": 0,
   "supportsDynamicLegends": true,
   "type": "Raster Layer",
   "parentLayerId": 77
  },
  {
   "subLayerIds": null,
   "maxScale": 0,
   "name": "TRM_054054.tif",
   "defaultVisibility": true,
   "id": 62,
   "minScale": 0,
   "supportsDynamicLegends": true,
   "type": "Raster Layer",
   "parentLayerId": 77
  },
  {
   "subLayerIds": null,
   "maxScale": 0,
   "name": "TRM_054044.tif",
   "defaultVisibility": true,
   "id": 61,
   "minScale": 0,
   "supportsDynamicLegends": true,
   "type": "Raster Layer",
   "parentLayerId": 77
  },
  {
   "subLayerIds": null,
   "maxScale": 0,
   "name": "TRM_054034.tif",
   "defaultVisibility": true,
   "id": 60,
   "minScale": 0,
   "supportsDynamicLegends": true,
   "type": "Raster Layer",
   "parentLayerId": 77
  },
  {
   "subLayerIds": null,
   "maxScale": 0,
   "name": "TRM_054024.tif",
   "defaultVisibility": true,
   "id": 59,
   "minScale": 0,
   "supportsDynamicLegends": true,
   "type": "Raster Layer",
   "parentLayerId": 77
  },
  {
   "subLayerIds": null,
   "maxScale": 0,
   "name": "TRM_054014.tif",
   "defaultVisibility": true,
   "id": 58,
   "minScale": 0,
   "supportsDynamicLegends": true,
   "type": "Raster Layer",
   "parentLayerId": 77
  },
  {
   "subLayerIds": null,
   "maxScale": 0,
   "name": "TRM_053074.tif",
   "defaultVisibility": true,
   "id": 57,
   "minScale": 0,
   "supportsDynamicLegends": true,
   "type": "Raster Layer",
   "parentLayerId": 77
  },
  {
   "subLayerIds": null,
   "maxScale": 0,
   "name": "TRM_053064.tif",
   "defaultVisibility": true,
   "id": 56,
   "minScale": 0,
   "supportsDynamicLegends": true,
   "type": "Raster Layer",
   "parentLayerId": 77
  },
  {
   "subLayerIds": null,
   "maxScale": 0,
   "name": "TRM_053054.tif",
   "defaultVisibility": true,
   "id": 55,
   "minScale": 0,
   "supportsDynamicLegends": true,
   "type": "Raster Layer",
   "parentLayerId": 77
  },
  {
   "subLayerIds": null,
   "maxScale": 0,
   "name": "TRM_053044.tif",
   "defaultVisibility": true,
   "id": 54,
   "minScale": 0,
   "supportsDynamicLegends": true,
   "type": "Raster Layer",
   "parentLayerId": 77
  },
  {
   "subLayerIds": null,
   "maxScale": 0,
   "name": "TRM_053034.tif",
   "defaultVisibility": true,
   "id": 53,
   "minScale": 0,
   "supportsDynamicLegends": true,
   "type": "Raster Layer",
   "parentLayerId": 77
  },
  {
   "subLayerIds": null,
   "maxScale": 0,
   "name": "TRM_053024.tif",
   "defaultVisibility": true,
   "id": 52,
   "minScale": 0,
   "supportsDynamicLegends": true,
   "type": "Raster Layer",
   "parentLayerId": 77
  },
  {
   "subLayerIds": null,
   "maxScale": 0,
   "name": "TRM_053014.tif",
   "defaultVisibility": true,
   "id": 51,
   "minScale": 0,
   "supportsDynamicLegends": true,
   "type": "Raster Layer",
   "parentLayerId": 77
  },
  {
   "subLayerIds": null,
   "maxScale": 0,
   "name": "TRM_052074.tif",
   "defaultVisibility": true,
   "id": 50,
   "minScale": 0,
   "supportsDynamicLegends": true,
   "type": "Raster Layer",
   "parentLayerId": 77
  },
  {
   "subLayerIds": null,
   "maxScale": 0,
   "name": "TRM_052064.tif",
   "defaultVisibility": true,
   "id": 49,
   "minScale": 0,
   "supportsDynamicLegends": true,
   "type": "Raster Layer",
   "parentLayerId": 77
  },
  {
   "subLayerIds": null,
   "maxScale": 0,
   "name": "TRM_052054.tif",
   "defaultVisibility": true,
   "id": 48,
   "minScale": 0,
   "supportsDynamicLegends": true,
   "type": "Raster Layer",
   "parentLayerId": 77
  },
  {
   "subLayerIds": null,
   "maxScale": 0,
   "name": "TRM_052044.tif",
   "defaultVisibility": true,
   "id": 47,
   "minScale": 0,
   "supportsDynamicLegends": true,
   "type": "Raster Layer",
   "parentLayerId": 77
  },
  {
   "subLayerIds": null,
   "maxScale": 0,
   "name": "TRM_052034.tif",
   "defaultVisibility": true,
   "id": 46,
   "minScale": 0,
   "supportsDynamicLegends": true,
   "type": "Raster Layer",
   "parentLayerId": 77
  },
  {
   "subLayerIds": null,
   "maxScale": 0,
   "name": "TRM_052024.tif",
   "defaultVisibility": true,
   "id": 45,
   "minScale": 0,
   "supportsDynamicLegends": true,
   "type": "Raster Layer",
   "parentLayerId": 77
  },
  {
   "subLayerIds": null,
   "maxScale": 0,
   "name": "TRM_052014.tif",
   "defaultVisibility": true,
   "id": 44,
   "minScale": 0,
   "supportsDynamicLegends": true,
   "type": "Raster Layer",
   "parentLayerId": 77
  },
  {
   "subLayerIds": null,
   "maxScale": 0,
   "name": "TRM_051074.tif",
   "defaultVisibility": true,
   "id": 43,
   "minScale": 0,
   "supportsDynamicLegends": true,
   "type": "Raster Layer",
   "parentLayerId": 77
  },
  {
   "subLayerIds": null,
   "maxScale": 0,
   "name": "TRM_051064.tif",
   "defaultVisibility": true,
   "id": 42,
   "minScale": 0,
   "supportsDynamicLegends": true,
   "type": "Raster Layer",
   "parentLayerId": 77
  },
  {
   "subLayerIds": null,
   "maxScale": 0,
   "name": "TRM_051054.tif",
   "defaultVisibility": true,
   "id": 41,
   "minScale": 0,
   "supportsDynamicLegends": true,
   "type": "Raster Layer",
   "parentLayerId": 77
  },
  {
   "subLayerIds": null,
   "maxScale": 0,
   "name": "TRM_051044.tif",
   "defaultVisibility": true,
   "id": 40,
   "minScale": 0,
   "supportsDynamicLegends": true,
   "type": "Raster Layer",
   "parentLayerId": 77
  },
  {
   "subLayerIds": null,
   "maxScale": 0,
   "name": "TRM_051034.tif",
   "defaultVisibility": true,
   "id": 39,
   "minScale": 0,
   "supportsDynamicLegends": true,
   "type": "Raster Layer",
   "parentLayerId": 77
  },
  {
   "subLayerIds": null,
   "maxScale": 0,
   "name": "TRM_051024.tif",
   "defaultVisibility": true,
   "id": 38,
   "minScale": 0,
   "supportsDynamicLegends": true,
   "type": "Raster Layer",
   "parentLayerId": 77
  },
  {
   "subLayerIds": null,
   "maxScale": 0,
   "name": "TRM_051014.tif",
   "defaultVisibility": true,
   "id": 37,
   "minScale": 0,
   "supportsDynamicLegends": true,
   "type": "Raster Layer",
   "parentLayerId": 77
  },
  {
   "subLayerIds": null,
   "maxScale": 0,
   "name": "TRM_050074.tif",
   "defaultVisibility": true,
   "id": 36,
   "minScale": 0,
   "supportsDynamicLegends": true,
   "type": "Raster Layer",
   "parentLayerId": 77
  },
  {
   "subLayerIds": null,
   "maxScale": 0,
   "name": "TRM_050064.tif",
   "defaultVisibility": true,
   "id": 35,
   "minScale": 0,
   "supportsDynamicLegends": true,
   "type": "Raster Layer",
   "parentLayerId": 77
  },
  {
   "subLayerIds": null,
   "maxScale": 0,
   "name": "TRM_050054.tif",
   "defaultVisibility": true,
   "id": 34,
   "minScale": 0,
   "supportsDynamicLegends": true,
   "type": "Raster Layer",
   "parentLayerId": 77
  },
  {
   "subLayerIds": null,
   "maxScale": 0,
   "name": "TRM_050044.tif",
   "defaultVisibility": true,
   "id": 33,
   "minScale": 0,
   "supportsDynamicLegends": true,
   "type": "Raster Layer",
   "parentLayerId": 77
  },
  {
   "subLayerIds": null,
   "maxScale": 0,
   "name": "TRM_050034.tif",
   "defaultVisibility": true,
   "id": 32,
   "minScale": 0,
   "supportsDynamicLegends": true,
   "type": "Raster Layer",
   "parentLayerId": 77
  },
  {
   "subLayerIds": null,
   "maxScale": 0,
   "name": "TRM_050024.tif",
   "defaultVisibility": true,
   "id": 31,
   "minScale": 0,
   "supportsDynamicLegends": true,
   "type": "Raster Layer",
   "parentLayerId": 77
  },
  {
   "subLayerIds": null,
   "maxScale": 0,
   "name": "TRM_050014.tif",
   "defaultVisibility": true,
   "id": 30,
   "minScale": 0,
   "supportsDynamicLegends": true,
   "type": "Raster Layer",
   "parentLayerId": 77
  },
  {
   "subLayerIds": null,
   "maxScale": 0,
   "name": "TRM_049074.tif",
   "defaultVisibility": true,
   "id": 29,
   "minScale": 0,
   "supportsDynamicLegends": true,
   "type": "Raster Layer",
   "parentLayerId": 77
  },
  {
   "subLayerIds": null,
   "maxScale": 0,
   "name": "TRM_049064.tif",
   "defaultVisibility": true,
   "id": 28,
   "minScale": 0,
   "supportsDynamicLegends": true,
   "type": "Raster Layer",
   "parentLayerId": 77
  },
  {
   "subLayerIds": null,
   "maxScale": 0,
   "name": "TRM_049054.tif",
   "defaultVisibility": true,
   "id": 27,
   "minScale": 0,
   "supportsDynamicLegends": true,
   "type": "Raster Layer",
   "parentLayerId": 77
  },
  {
   "subLayerIds": null,
   "maxScale": 0,
   "name": "TRM_049044.tif",
   "defaultVisibility": true,
   "id": 26,
   "minScale": 0,
   "supportsDynamicLegends": true,
   "type": "Raster Layer",
   "parentLayerId": 77
  },
  {
   "subLayerIds": null,
   "maxScale": 0,
   "name": "TRM_049034.tif",
   "defaultVisibility": true,
   "id": 25,
   "minScale": 0,
   "supportsDynamicLegends": true,
   "type": "Raster Layer",
   "parentLayerId": 77
  },
  {
   "subLayerIds": null,
   "maxScale": 0,
   "name": "TRM_049024.tif",
   "defaultVisibility": true,
   "id": 24,
   "minScale": 0,
   "supportsDynamicLegends": true,
   "type": "Raster Layer",
   "parentLayerId": 77
  },
  {
   "subLayerIds": null,
   "maxScale": 0,
   "name": "TRM_049014.tif",
   "defaultVisibility": true,
   "id": 23,
   "minScale": 0,
   "supportsDynamicLegends": true,
   "type": "Raster Layer",
   "parentLayerId": 77
  },
  {
   "subLayerIds": null,
   "maxScale": 0,
   "name": "TRM_048074.tif",
   "defaultVisibility": true,
   "id": 22,
   "minScale": 0,
   "supportsDynamicLegends": true,
   "type": "Raster Layer",
   "parentLayerId": 77
  },
  {
   "subLayerIds": null,
   "maxScale": 0,
   "name": "TRM_048064.tif",
   "defaultVisibility": true,
   "id": 21,
   "minScale": 0,
   "supportsDynamicLegends": true,
   "type": "Raster Layer",
   "parentLayerId": 77
  },
  {
   "subLayerIds": null,
   "maxScale": 0,
   "name": "TRM_048054.tif",
   "defaultVisibility": true,
   "id": 20,
   "minScale": 0,
   "supportsDynamicLegends": true,
   "type": "Raster Layer",
   "parentLayerId": 77
  },
  {
   "subLayerIds": null,
   "maxScale": 0,
   "name": "TRM_048044.tif",
   "defaultVisibility": true,
   "id": 19,
   "minScale": 0,
   "supportsDynamicLegends": true,
   "type": "Raster Layer",
   "parentLayerId": 77
  },
  {
   "subLayerIds": null,
   "maxScale": 0,
   "name": "TRM_048034.tif",
   "defaultVisibility": true,
   "id": 18,
   "minScale": 0,
   "supportsDynamicLegends": true,
   "type": "Raster Layer",
   "parentLayerId": 77
  },
  {
   "subLayerIds": null,
   "maxScale": 0,
   "name": "TRM_048024.tif",
   "defaultVisibility": true,
   "id": 17,
   "minScale": 0,
   "supportsDynamicLegends": true,
   "type": "Raster Layer",
   "parentLayerId": 77
  },
  {
   "subLayerIds": null,
   "maxScale": 0,
   "name": "TRM_048014.tif",
   "defaultVisibility": true,
   "id": 16,
   "minScale": 0,
   "supportsDynamicLegends": true,
   "type": "Raster Layer",
   "parentLayerId": 77
  },
  {
   "subLayerIds": null,
   "maxScale": 0,
   "name": "TRM_047074.tif",
   "defaultVisibility": true,
   "id": 15,
   "minScale": 0,
   "supportsDynamicLegends": true,
   "type": "Raster Layer",
   "parentLayerId": 77
  },
  {
   "subLayerIds": null,
   "maxScale": 0,
   "name": "TRM_047064.tif",
   "defaultVisibility": true,
   "id": 14,
   "minScale": 0,
   "supportsDynamicLegends": true,
   "type": "Raster Layer",
   "parentLayerId": 77
  },
  {
   "subLayerIds": null,
   "maxScale": 0,
   "name": "TRM_047054.tif",
   "defaultVisibility": true,
   "id": 13,
   "minScale": 0,
   "supportsDynamicLegends": true,
   "type": "Raster Layer",
   "parentLayerId": 77
  },
  {
   "subLayerIds": null,
   "maxScale": 0,
   "name": "TRM_047044.tif",
   "defaultVisibility": true,
   "id": 12,
   "minScale": 0,
   "supportsDynamicLegends": true,
   "type": "Raster Layer",
   "parentLayerId": 77
  },
  {
   "subLayerIds": null,
   "maxScale": 0,
   "name": "TRM_047034.tif",
   "defaultVisibility": true,
   "id": 11,
   "minScale": 0,
   "supportsDynamicLegends": true,
   "type": "Raster Layer",
   "parentLayerId": 77
  },
  {
   "subLayerIds": null,
   "maxScale": 0,
   "name": "TRM_047024.tif",
   "defaultVisibility": true,
   "id": 10,
   "minScale": 0,
   "supportsDynamicLegends": true,
   "type": "Raster Layer",
   "parentLayerId": 77
  },
  {
   "subLayerIds": null,
   "maxScale": 0,
   "name": "TRM_047014.tif",
   "defaultVisibility": true,
   "id": 9,
   "minScale": 0,
   "supportsDynamicLegends": true,
   "type": "Raster Layer",
   "parentLayerId": 77
  },
  {
   "subLayerIds": null,
   "maxScale": 0,
   "name": "TRM_046064.tif",
   "defaultVisibility": true,
   "id": 8,
   "minScale": 0,
   "supportsDynamicLegends": true,
   "type": "Raster Layer",
   "parentLayerId": 77
  },
  {
   "subLayerIds": null,
   "maxScale": 0,
   "name": "TRM_046054.tif",
   "defaultVisibility": true,
   "id": 7,
   "minScale": 0,
   "supportsDynamicLegends": true,
   "type": "Raster Layer",
   "parentLayerId": 77
  },
  {
   "subLayerIds": null,
   "maxScale": 0,
   "name": "TRM_046044.tif",
   "defaultVisibility": true,
   "id": 6,
   "minScale": 0,
   "supportsDynamicLegends": true,
   "type": "Raster Layer",
   "parentLayerId": 77
  },
  {
   "subLayerIds": null,
   "maxScale": 0,
   "name": "TRM_046034.tif",
   "defaultVisibility": true,
   "id": 5,
   "minScale": 0,
   "supportsDynamicLegends": true,
   "type": "Raster Layer",
   "parentLayerId": 77
  },
  {
   "subLayerIds": null,
   "maxScale": 0,
   "name": "TRM_046024.tif",
   "defaultVisibility": true,
   "id": 4,
   "minScale": 0,
   "supportsDynamicLegends": true,
   "type": "Raster Layer",
   "parentLayerId": 77
  },
  {
   "subLayerIds": null,
   "maxScale": 0,
   "name": "TRM_046014.tif",
   "defaultVisibility": true,
   "id": 3,
   "minScale": 0,
   "supportsDynamicLegends": true,
   "type": "Raster Layer",
   "parentLayerId": 77
  },
  {
   "subLayerIds": null,
   "maxScale": 0,
   "name": "TRM_045034.tif",
   "defaultVisibility": true,
   "id": 2,
   "minScale": 0,
   "supportsDynamicLegends": true,
   "type": "Raster Layer",
   "parentLayerId": 77
  },
  {
   "subLayerIds": null,
   "maxScale": 0,
   "name": "TRM_045024.tif",
   "defaultVisibility": true,
   "id": 1,
   "minScale": 0,
   "supportsDynamicLegends": true,
   "type": "Raster Layer",
   "parentLayerId": 77
  },
  {
   "subLayerIds": null,
   "maxScale": 0,
   "name": "TRM_045014.tif",
   "defaultVisibility": true,
   "id": 0,
   "minScale": 0,
   "supportsDynamicLegends": true,
   "type": "Raster Layer",
   "parentLayerId": 77
  }
 ],
 "mapName": "2024 Aerial",
 "minScale": 1000000,
 "archivingInfo": {
  "supportsHistoricMoment": false
 },
 "spatialReference": {
  "falseM": -100000,
  "xyTolerance": 0.001,
  "mUnits": 10000,
  "zUnits": 10000,
  "latestWkid": 26912,
  "zTolerance": 0.001,
  "wkid": 26912,
  "xyUnits": 10000,
  "mTolerance": 0.001,
  "falseX": -5120900,
  "falseY": -9998100,
  "falseZ": -100000
 },
 "tileImageInfo": {
  "bandCount": 1,
  "lercError": 0,
  "format": "JPEG",
  "compressionQuality": 75
 },
 "fullExtent": {
  "ymin": 5854883.7966900002,
  "xmin": 496927.89944999997,
  "ymax": 5971702.1147600003,
  "xmax": 567518.3194799996,
  "spatialReference": {
   "falseM": -100000,
   "xyTolerance": 0.001,
   "mUnits": 10000,
   "zUnits": 10000,
   "latestWkid": 26912,
   "zTolerance": 0.001,
   "wkid": 26912,
   "xyUnits": 10000,
   "mTolerance": 0.001,
   "falseX": -5120900,
   "falseY": -9998100,
   "falseZ": -100000
  }
 },
 "supportedExtensions": "",
 "serviceItemId": "7198cc4ccadb4c149f09acb2cb824b78",
 "capabilities": "Map,Query,Data",
 "supportsDynamicLayers": true,
 "maxScale": 500,
 "singleFusedMapCache": true,
 "currentVersion": 12.1,
 "storageInfo": {
  "storageFormat": "esriMapCacheStorageModeCompactV2",
  "packetSize": 128
 },
 "resampling": false,
 "hasBranchVersionedData": false,
