{
 "documentInfo": {
  "Category": "",
  "Keywords": "Basemap",
  "Version": "3.1.0",
  "Comments": "",
  "AntialiasingMode": "Fast",
  "Title": "Map1",
  "Author": "",
  "TextAntialiasingMode": "Force",
  "Subject": ""
 },
 "maxImageWidth": 4096,
 "wmtsScaleFactor": 0.00028000000000003521,
 "maxRecordCount": 2000,
 "tileInfo": {
  "lods": [
   {
    "level": 0,
    "scale": 1000000,
    "resolution": 264.58386250105838
   },
   {
    "level": 1,
    "scale": 500000,
    "resolution": 132.29193125052919
   },
   {
    "level": 2,
    "scale": 250000,
    "resolution": 66.145965625264594
   },
   {
    "level": 3,
    "scale": 125000,
    "resolution": 33.072982812632297
   },
   {
    "level": 4,
    "scale": 64000,
    "resolution": 16.933367200067735
   },
   {
    "level": 5,
    "scale": 32000,
    "resolution": 8.4666836000338677
   },
   {
    "level": 6,
    "scale": 16000,
    "resolution": 4.2333418000169338
   },
   {
    "level": 7,
    "scale": 8000,
    "resolution": 2.1166709000084669
   },
   {
    "level": 8,
    "scale": 4000,
    "resolution": 1.0583354500042335
   },
   {
    "level": 9,
    "scale": 2000,
    "resolution": 0.52916772500211673
   },
   {
    "level": 10,
    "scale": 1000,
    "resolution": 0.26458386250105836
   },
   {
    "level": 11,
    "scale": 500,
    "resolution": 0.13229193125052918
   }
  ],
  "origin": {
   "x": -5120900,
   "y": 9998100
  },
  "format": "PNG32",
  "compressionQuality": 0,
  "rows": 256,
  "dpi": 96,
  "spatialReference": {
   "falseM": -100000,
   "xyTolerance": 0.001,
   "mUnits": 10000,
   "zUnits": 10000,
   "latestWkid": 26912,
   "zTolerance": 0.001,
   "wkid": 26912,
   "xyUnits": 10000,
   "mTolerance": 0.001,
   "falseX": -5120900,
   "falseY": -9998100,
   "falseZ": -100000
  },
  "cols": 256
 },
 "description": "",
 "datesInUnknownTimezone": false,
 "supportsQueryDomains": true,
 "units": "esriMeters",
 "maxSelectionCount": 2000,
 "supportedImageFormatTypes": "PNG32,PNG24,PNG,JPG,DIB,TIFF,EMF,PS,PDF,GIF,SVG,SVGZ,BMP",
 "supportsClipping": true,
 "exportTilesAllowed": false,
 "maxImageHeight": 4096,
 "tables": [],
 "hasVersionedData": false,
 "supportsDatumTransformation": true,
 "cimVersion": "3.7.0",
 "supportsQueryDataElements": true,
 "layers": [
  {
   "subLayerIds": null,
   "maxScale": 0,
   "name": "CountyYard_4cm_2024.tif",
   "defaultVisibility": true,
   "id": 1,
   "minScale": 0,
   "supportsDynamicLegends": true,
   "type": "Raster Layer",
   "parentLayerId": -1
  }
 ],
 "mapName": "Yard Aerial",
 "minScale": 4000,
 "archivingInfo": {
  "supportsHistoricMoment": false
 },
 "spatialReference": {
  "falseM": -100000,
  "xyTolerance": 0.001,
  "mUnits": 10000,
  "zUnits": 10000,
  "latestWkid": 26912,
  "zTolerance": 0.001,
  "wkid": 26912,
  "xyUnits": 10000,
  "mTolerance": 0.001,
  "falseX": -5120900,
  "falseY": -9998100,
  "falseZ": -100000
 },
 "tileImageInfo": {
  "bandCount": 1,
  "lercError": 0,
  "format": "PNG32",
  "compressionQuality": 0
 },
 "fullExtent": {
  "ymin": 5912173.3087566365,
  "xmin": 544732.72113423236,
  "ymax": 5912648.5087566366,
  "xmax": 545084.84113423235,
  "spatialReference": {
   "falseM": -100000,
   "xyTolerance": 0.001,
   "mUnits": 10000,
   "zUnits": 10000,
   "latestWkid": 26912,
   "zTolerance": 0.001,
   "wkid": 26912,
   "xyUnits": 10000,
   "mTolerance": 0.001,
   "falseX": -5120900,
   "falseY": -9998100,
   "falseZ": -100000
  }
 },
 "supportedExtensions": "",
 "serviceItemId": "8d851b6419194783a946a0b289e76926",
 "capabilities": "Query,Map,Data",
 "supportsDynamicLayers": true,
 "maxScale": 500,
 "singleFusedMapCache": true,
 "currentVersion": 12.1,
 "storageInfo": {
  "storageFormat": "esriMapCacheStorageModeCompactV2",
  "packetSize": 128
 },
 "hasBranchVersionedData": false,
 "mapUnits": {
  "uwkid": 9001
 },
 "referenceScale": 0,
 "supportsSpatialFilter": true,
 "maxLOD": 11,
 "minLOD": 8,
 "supportedQueryFormats": "JSON, geoJSON, PBF",
 "initialExtent": {
  "ymin": 5912154.3163374867,
  "xmin": 544544.86237982614,
  "ymax": 5912666.4014826789,
  "xmax": 545285.61447664513,
  "spatialReference": {
   "falseM": -100000,
   "xyTolerance": 0.001,
   "mUnits": 10000,
   "zUnits": 10000,
   "latestWkid": 26912,
   "zTolerance": 0.001,
   "wkid": 26912,
   "xyUnits": 10000,
   "mTolerance": 0.001,
   "falseX": -5120900,
   "falseY": -9998100,
   "falseZ": -100000
  }
 },
 "serviceDescription": "",
 "copyrightText": "",
 "supportsTimeRelation": true
}
