{
 "extent": {
  "ymin": 5854982.5,
  "xmin": 497027.5,
  "ymax": 5971682.5,
  "xmax": 566972.5,
  "spatialReference": {
   "latestWkid": 26912,
   "wkid": 26912
  }
 },
 "blockWidth": 128,
 "mosaicOperator": "First",
 "serviceSourceType": "esriImageServiceSourceTypeDataset",
 "hasMultidimensions": false,
 "maxImageWidth": 15000,
 "meanValues": [
  633.16942208847001
 ],
 "hasColormap": false,
 "compressionType": "LZW",
 "defaultCompressionQuality": 75,
 "maxValues": [
  787
 ],
 "hasHistograms": true,
 "datasetFormat": "TIFF",
 "maxImageHeight": 4100,
 "sortField": "",
 "bandNames": [
  "Band_1"
 ],
 "spatialReference": {
  "latestWkid": 26912,
  "wkid": 26912
 },
 "fullExtent": {
  "ymin": 5854982.5,
  "xmin": 497027.5,
  "ymax": 5971682.5,
  "xmax": 566972.5,
  "spatialReference": {
   "latestWkid": 26912,
   "wkid": 26912
  }
 },
 "bandCount": 1,
 "rasterFunctionInfos": [
  {
   "help": "",
   "name": "None",
   "description": ""
  }
 ],
 "supportsStatistics": false,
 "sortableFields": "",
 "minValues": [
  498
 ],
 "allowRasterFunction": true,
 "allowComputeTiePoints": false,
 "serviceDataType": "esriImageServiceDataTypeGeneric",
 "supportsAdvancedQueries": false,
 "currentVersion": 12.1,
 "sortValue": null,
 "objectIdField": "",
 "blockHeight": 128,
 "initialExtent": {
  "ymin": 5854982.5,
  "xmin": 497027.5,
  "ymax": 5971682.5,
  "xmax": 566972.5,
  "spatialReference": {
   "latestWkid": 26912,
   "wkid": 26912
  }
 },
 "pixelSizeX": 15,
 "pixelSizeY": 15,
 "defaultMosaicMethod": "Center",
 "name": "County/Elevation_Profile",
 "allowedMosaicMethods": "",
 "fields": [],
 "allowAnalysis": true,
 "hasRasterAttributeTable": false,
 "useStandardizedQueries": false,
 "description": "",
 "pixelType": "S16",
 "meanPixelSize": 15,
 "exportTilesAllowed": false,
 "editFieldsInfo": null,
 "rasterTypeInfos": [
  {
   "help": "",
   "name": "Raster Dataset",
   "description": "Supports all ArcGIS Raster Datasets"
  }
 ],
 "defaultResamplingMethod": "Bilinear",
 "itemAccess": false,
 "minScale": 0,
 "serviceProperties": "Center<\/MosaicMethod>First<\/MosaicOperator>true<\/SortAscending><\/LockImageID><\/TileOrderField>0<\/TileOrderBase>0.000000<\/AvgImageSpacingX>0.000000<\/AvgImageSpacingY>0.0<\/ViewPointX>0.0<\/ViewPointY>0.0<\/ViewPointDefShiftX>0.0<\/ViewPointDefShiftY>None<\/CompressionMethod>75<\/CompressionQuality>0.010000<\/CompressionTolerance>Bilinear<\/SamplingMethod><\/ImageServiceProperties><\/ImageServer>",
 "advancedQueryCapabilities": {
  "supportsStatistics": false,
  "supportsSqlExpression": false,
  "supportsOrderBy": false,
  "useStandardizedQueries": false,
  "supportsPagination": false,
  "supportsDistinct": false
 },
 "serviceItemId": "37ec90d12bf54a6b813e5154d42d1803",
 "capabilities": "Mensuration,Image,Metadata",
 "maxScale": 0,
 "stdvValues": [
  36.851735104119001
 ],
 "allowedFields": "",
 "minPixelSize": 0,
 "resampling": false,
 "noDataValues": [
  -32768
 ],
 "sortAscending": true,
 "inspectionCapabilities": "",
 "maxPixelSize": 0,
 "noDataValue": -32768,
 "allowedCompressions": "None,JPEG,LZ77,LERC",
 "uncompressedSize": 72556280,
 "serviceDescription": "County/Elevation_Profile",
 "allowCopy": true,
 "copyrightText": "",
 "mensurationCapabilities": "Basic",
 "ownershipBasedAccessControlForRasters": null
}
