View In:
ArcGIS JavaScript
ArcGIS Online Map Viewer
ArcGIS Earth
Service Description: County/Elevation_Profile
Name: County/Elevation_Profile
Description:
Single Fused Map Cache: false
Extent:
XMin: 497027.5
YMin: 5854982.5
XMax: 566972.5
YMax: 5971682.5
Spatial Reference: 26912
(26912)
Initial Extent:
XMin: 497027.5
YMin: 5854982.5
XMax: 566972.5
YMax: 5971682.5
Spatial Reference: 26912
(26912)
Full Extent:
XMin: 497027.5
YMin: 5854982.5
XMax: 566972.5
YMax: 5971682.5
Spatial Reference: 26912
(26912)
Pixel Size X: 15.0
Pixel Size Y: 15.0
Band Count: 1
Pixel Type: S16
RasterFunction Infos: {"rasterFunctionInfos": [{
"help": "",
"name": "None",
"description": ""
}]}
Mensuration Capabilities: Basic
Inspection Capabilities:
Has Histograms: true
Has Colormap: false
Has Multi Dimensions : false
Rendering Rule:
Min Scale: 0
Max Scale: 0
Resampling: false
Copyright Text:
Service Data Type: esriImageServiceDataTypeGeneric
Min Values: 498
Max Values: 787
Mean Values: 633.16942208847001
Standard Deviation Values: 36.851735104119001
Object ID Field:
Fields:
None
Default Mosaic Method: Center
Allowed Mosaic Methods:
SortField:
SortValue: N/A
Mosaic Operator: First
Default Compression Quality: 75
Default Resampling Method: Bilinear
Max Record Count: null
Max Image Height: 4100
Max Image Width: 15000
Max Download Image Count: null
Max Mosaic Image Count: null
Allow Raster Function: true
Allow Copy: true
Allow Analysis: true
Allow Compute TiePoints: false
Supports Statistics: false
Supports Advanced Queries: false
Use StandardizedQueries: false
Raster Type Infos:
Name: Raster Dataset
Description: Supports all ArcGIS Raster Datasets
Help:
Has Raster Attribute Table: false
Edit Fields Info: N/A
Ownership Based AccessControl For Rasters: N/A
Child Resources:
Info
Histograms
Statistics
Key Properties
Legend
Raster Function Infos
Supported Operations:
Export Image
Identify
Measure
Compute Histograms
Compute Statistics Histograms
Get Samples
Compute Class Statistics
Query Boundary
Compute Pixel Location
Compute Angles
Validate
Project